BEGIN:VCALENDAR
VERSION:2.0
PRODID:https://www.b-p-w.de/termine/
METHOD:PUBLISH
BEGIN:VEVENT
UID:de-event-281@b-p-w.de
ORGANIZER;CN=BPW:MAILTO:bpw@ibb-business-team.de
LOCATION:Online
DTSTART:20250701T160000
DTEND:20250701T180000
SUMMARY:Wie entwickle ich meine unternehmerische Persönlichkeit?
DESCRIPTION:Die unternehmerische Persönlichkeit entwickeln, ohne Entrepreneur-Klischee!
CLASS:PRIVATE
END:VEVENT
END:VCALENDAR