BEGIN:VCALENDAR
VERSION:2.0
PRODID:https://www.b-p-w.de/termine/
METHOD:PUBLISH
BEGIN:VEVENT
UID:de-event-575@b-p-w.de
ORGANIZER;CN=BPW:MAILTO:bpw@ibb-business-team.de
LOCATION:Online
DTSTART:20260428T160000
DTEND:20260428T180000
SUMMARY:Website-Erstellung: Erfolgsfaktoren & häufige Fehler
DESCRIPTION:Wie du eine Website entwickelst, die deine Zielgruppe gezielt anspricht und typische Stolpersteine vermeidet
CLASS:PRIVATE
END:VEVENT
END:VCALENDAR