BEGIN:VCALENDAR
VERSION:2.0
PRODID:https://www.b-p-w.de/termine/
METHOD:PUBLISH
BEGIN:VEVENT
UID:de-event-322@b-p-w.de
ORGANIZER;CN=BPW:MAILTO:bpw@ibb-business-team.de
LOCATION:Cottbus
DTSTART:20250710T100000
DTEND:20250710T163000
SUMMARY:Sustainable Business Concept
DESCRIPTION:How to incorporate sustainability into your business concept
CLASS:PRIVATE
END:VEVENT
END:VCALENDAR