BEGIN:VCALENDAR
VERSION:2.0
PRODID:https://www.b-p-w.de/termine/
METHOD:PUBLISH
BEGIN:VEVENT
UID:de-event-565@b-p-w.de
ORGANIZER;CN=BPW:MAILTO:bpw@ibb-business-team.de
LOCATION:Online
DTSTART:20260630T093000
DTEND:20260630T110000
SUMMARY:Start Smart: DPMA / Urheberrecht
DESCRIPTION:Rechtliche und technologische Grundlagen für deine erfolgreiche Gründung
CLASS:PRIVATE
END:VEVENT
END:VCALENDAR