BEGIN:VCALENDAR
VERSION:2.0
PRODID:https://www.b-p-w.de/termine/
METHOD:PUBLISH
BEGIN:VEVENT
UID:de-event-491@b-p-w.de
ORGANIZER;CN=BPW:MAILTO:bpw@ibb-business-team.de
LOCATION:Online
DTSTART:20260205T120000
DTEND:20260205T143000
SUMMARY:Social Media als Erfolgsfaktor für deine Gründung
DESCRIPTION:Mit Social Media Kund:innen erreichen und von deinem Produkt überzeugen
CLASS:PRIVATE
END:VEVENT
END:VCALENDAR