BEGIN:VCALENDAR
VERSION:2.0
PRODID:https://www.b-p-w.de/termine/
METHOD:PUBLISH
BEGIN:VEVENT
UID:de-event-508@b-p-w.de
ORGANIZER;CN=BPW:MAILTO:bpw@ibb-business-team.de
LOCATION:Online
DTSTART:20260204T103000
DTEND:20260204T120000
SUMMARY:Rente, Rentenlücke & Co: Was du als Selbstständige:r wissen musst
DESCRIPTION:Altersarmut trifft auch Selbstständige – hier bekommst du Klarheit über die Rentenrealität und Wege, aktiv vorzusorgen
CLASS:PRIVATE
END:VEVENT
END:VCALENDAR