BEGIN:VCALENDAR
VERSION:2.0
PRODID:https://www.b-p-w.de/termine/
METHOD:PUBLISH
BEGIN:VEVENT
UID:de-event-325@b-p-w.de
ORGANIZER;CN=BPW:MAILTO:bpw@ibb-business-team.de
LOCATION:Frankfurt (Oder)
DTSTART:20250618T140000
DTEND:20250618T180000
SUMMARY:Pitch Training (English)
DESCRIPTION:Convince with your business idea!
CLASS:PRIVATE
END:VEVENT
END:VCALENDAR