BEGIN:VCALENDAR
VERSION:2.0
PRODID:https://www.b-p-w.de/termine/
METHOD:PUBLISH
BEGIN:VEVENT
UID:de-event-597@b-p-w.de
ORGANIZER;CN=BPW:MAILTO:bpw@ibb-business-team.de
LOCATION:Babelsberg
DTSTART:20260511T130000
DTEND:20260511T160000
SUMMARY:Know your customer
DESCRIPTION:Von der Hypothese zur Zielgruppe: Customer Research in der Praxis
CLASS:PRIVATE
END:VEVENT
END:VCALENDAR