BEGIN:VCALENDAR
VERSION:2.0
PRODID:https://www.b-p-w.de/termine/
METHOD:PUBLISH
BEGIN:VEVENT
UID:de-event-561@b-p-w.de
ORGANIZER;CN=BPW:MAILTO:bpw@ibb-business-team.de
LOCATION:Berlin
DTSTART:20260417T090000
DTEND:20260417T110000
SUMMARY:Gründerinnenfrühstück@BPW
DESCRIPTION:Coffee, Community & Gründungsimpulse
CLASS:PUBLIC
END:VEVENT
END:VCALENDAR