BEGIN:VCALENDAR
VERSION:2.0
PRODID:https://www.b-p-w.de/termine/
METHOD:PUBLISH
BEGIN:VEVENT
UID:de-event-483@b-p-w.de
ORGANIZER;CN=BPW:MAILTO:bpw@ibb-business-team.de
LOCATION:Online
DTSTART:20260727T140000
DTEND:20260727T153000
SUMMARY:FrauenImPuls@BPW: Selbstbewusst Gründen im Life-Science-Ökosystem
DESCRIPTION:Die Reihe „FrauenImPuls@BPW“ bietet ein Podium zum Austauschen, Informieren, Bestärken & Vernetzen zwischen Frauen zu interessanten Aspekten rund um das Thema Gründen und Selbstständigkeit.
CLASS:PRIVATE
END:VEVENT
END:VCALENDAR