BEGIN:VCALENDAR
VERSION:2.0
PRODID:https://www.b-p-w.de/termine/
METHOD:PUBLISH
BEGIN:VEVENT
UID:de-event-312@b-p-w.de
ORGANIZER;CN=BPW:MAILTO:bpw@ibb-business-team.de
LOCATION:Online
DTSTART:20250324T093000
DTEND:20250324T120000
SUMMARY:Business, aber bitte mit Impact
DESCRIPTION:Für alle (angehenden) Gründer:innen, die mit ihrem Business eine soziale oder ökologische Wirkung erzielen möchten.
CLASS:PRIVATE
END:VEVENT
END:VCALENDAR