BEGIN:VCALENDAR
VERSION:2.0
PRODID:https://www.b-p-w.de/termine/
METHOD:PUBLISH
BEGIN:VEVENT
UID:de-event-378@b-p-w.de
ORGANIZER;CN=BPW:MAILTO:bpw@ibb-business-team.de
LOCATION:Arena Berlin
DTSTART:20251010T163000
DTEND:20251010T180000
SUMMARY:Auftakt des BPW 2026
DESCRIPTION:Der Businessplan-Wettbewerb Berlin-Brandenburg (BPW) eröffnet am 10. Oktober 2025 das neue Jahr!
CLASS:PUBLIC
END:VEVENT
END:VCALENDAR