BEGIN:VCALENDAR
VERSION:2.0
PRODID:https://www.b-p-w.de/en/dates/
METHOD:PUBLISH
BEGIN:VEVENT
UID:de-event-320@b-p-w.de
ORGANIZER;CN=BPW:MAILTO:bpw@ibb-business-team.de
LOCATION:Online
DTSTART:20250521T150000
DTEND:20250521T180000
SUMMARY:Target group and sales for your business
DESCRIPTION:Business model and sales in social entrepreneurship
CLASS:PRIVATE
END:VEVENT
END:VCALENDAR