BEGIN:VCALENDAR
VERSION:2.0
PRODID:https://www.b-p-w.de/en/dates/
METHOD:PUBLISH
BEGIN:VEVENT
UID:de-event-187@b-p-w.de
ORGANIZER;CN=BPW:MAILTO:bpw@ibb-business-team.de
LOCATION:Online
DTSTART:20241107T140000
DTEND:20241107T160000
SUMMARY:Company succession: M&A and strategy
DESCRIPTION:How can a corporate strategy be implemented by buying or selling companies?
CLASS:PRIVATE
END:VEVENT
END:VCALENDAR