BEGIN:VCALENDAR
VERSION:2.0
PRODID:https://www.b-p-w.de/en/dates/
METHOD:PUBLISH
BEGIN:VEVENT
UID:de-event-324@b-p-w.de
ORGANIZER;CN=BPW:MAILTO:bpw@ibb-business-team.de
LOCATION:Online
DTSTART:20250612T150000
DTEND:20250612T170000
SUMMARY:Steuergrundlagen
DESCRIPTION:Du hast eine gute Idee und möchtest Sicherheit gewinnen, dass sie rentabel ist?
CLASS:PRIVATE
END:VEVENT
END:VCALENDAR