BEGIN:VCALENDAR
VERSION:2.0
PRODID:https://www.b-p-w.de/en/dates/
METHOD:PUBLISH
BEGIN:VEVENT
UID:de-event-508@b-p-w.de
ORGANIZER;CN=BPW:MAILTO:bpw@ibb-business-team.de
LOCATION:Online
DTSTART:20260204T103000
DTEND:20260204T120000
SUMMARY:Pensions, pension gaps, and more: What you need to know as a self-employed person
DESCRIPTION:Poverty in old age also affects the self-employed – here you can find clarity about the reality of pensions and ways to actively provide for your future.
CLASS:PRIVATE
END:VEVENT
END:VCALENDAR