BEGIN:VCALENDAR
VERSION:2.0
PRODID:https://www.b-p-w.de/en/dates/
METHOD:PUBLISH
BEGIN:VEVENT
UID:de-event-560@b-p-w.de
ORGANIZER;CN=BPW:MAILTO:bpw@ibb-business-team.de
LOCATION:Letschin
DTSTART:20260515T150000
DTEND:20260517T150000
SUMMARY:Raus aufs Land: BPW Intensiv-Schreibwerkstatt
DESCRIPTION:Bring deinen Businessplan aufs Papier, finalisiere ihn – und trainiere deinen Pitch.
CLASS:PUBLIC
END:VEVENT
END:VCALENDAR