BEGIN:VCALENDAR
VERSION:2.0
PRODID:https://www.b-p-w.de/en/dates/
METHOD:PUBLISH
BEGIN:VEVENT
UID:de-event-398@b-p-w.de
ORGANIZER;CN=BPW:MAILTO:bpw@ibb-business-team.de
LOCATION:Online
DTSTART:20260115T140000
DTEND:20260115T160000
SUMMARY:Guerilla-Marketing
DESCRIPTION:Achieve maximum attention with creative ideas
CLASS:PRIVATE
END:VEVENT
END:VCALENDAR