BEGIN:VCALENDAR
VERSION:2.0
PRODID:https://www.b-p-w.de/en/dates/
METHOD:PUBLISH
BEGIN:VEVENT
UID:de-event-561@b-p-w.de
ORGANIZER;CN=BPW:MAILTO:bpw@ibb-business-team.de
LOCATION:Berlin
DTSTART:20260417T090000
DTEND:20260417T110000
SUMMARY:Women Entrepreneurs' Breakfast@BPW
DESCRIPTION:Coffee, Community & Startup Inspiration
CLASS:PUBLIC
END:VEVENT
END:VCALENDAR