BEGIN:VCALENDAR
VERSION:2.0
PRODID:https://www.b-p-w.de/en/dates/
METHOD:PUBLISH
BEGIN:VEVENT
UID:de-event-438@b-p-w.de
ORGANIZER;CN=BPW:MAILTO:bpw@ibb-business-team.de
LOCATION:Online
DTSTART:20260126T150000
DTEND:20260126T163000
SUMMARY:FrauenImPuls@BPW: From idea to successful business concept
DESCRIPTION:The “FrauenImPuls@BPW” series offers a platform for exchange, information, encouragement, and networking among women on interesting aspects of entrepreneurship and self-employment.
CLASS:PRIVATE
END:VEVENT
END:VCALENDAR