BEGIN:VCALENDAR
VERSION:2.0
PRODID:https://www.b-p-w.de/en/dates/
METHOD:PUBLISH
BEGIN:VEVENT
UID:de-event-483@b-p-w.de
ORGANIZER;CN=BPW:MAILTO:bpw@ibb-business-team.de
LOCATION:Online
DTSTART:20260727T140000
DTEND:20260727T153000
SUMMARY:FrauenImPuls@BPW: Confidently founding a business in the life sciences ecosystem
DESCRIPTION:The „FrauenImPuls@BPW“ series offers a platform for women to exchange ideas, share information, encourage each other, and network on interesting aspects of entrepreneurship and self-employment.
CLASS:PRIVATE
END:VEVENT
END:VCALENDAR