BEGIN:VCALENDAR
VERSION:2.0
PRODID:https://www.b-p-w.de/en/dates/
METHOD:PUBLISH
BEGIN:VEVENT
UID:de-event-323@b-p-w.de
ORGANIZER;CN=BPW:MAILTO:bpw@ibb-business-team.de
LOCATION:Online
DTSTART:20250523T130000
DTEND:20250523T170000
SUMMARY:Financial Planning (English)
DESCRIPTION:How to calculate your annual revenues, capital demand and set up a prognosis on liquidity and viability
CLASS:PRIVATE
END:VEVENT
END:VCALENDAR