BEGIN:VCALENDAR
VERSION:2.0
PRODID:https://www.b-p-w.de/en/dates/
METHOD:PUBLISH
BEGIN:VEVENT
UID:de-event-504@b-p-w.de
ORGANIZER;CN=BPW:MAILTO:bpw@ibb-business-team.de
LOCATION:Online
DTSTART:20260123T103000
DTEND:20260123T120000
SUMMARY:Business insurance: Your protection right from the start
DESCRIPTION:Learn how to properly protect yourself and your business
CLASS:PRIVATE
END:VEVENT
END:VCALENDAR