BEGIN:VCALENDAR
VERSION:2.0
PRODID:https://www.b-p-w.de/en/dates/
METHOD:PUBLISH
BEGIN:VEVENT
UID:de-event-1@b-p-w.de
ORGANIZER;CN=BPW:MAILTO:bpw@ibb-business-team.de
LOCATION:ARENA Berlin
DTSTART:20231013T163000
DTEND:20231013T175500
SUMMARY:Auftakt des BPW 2024
DESCRIPTION:Der Businessplan-Wettbewerb Berlin-Brandenburg (BPW) eröffnet am 13. Oktober 2023 das neue Jahr mit kostenfreien Unterstützungsangeboten für Gründer:innen der Region Berlin-Brandenburg.
CLASS:PUBLIC
END:VEVENT
END:VCALENDAR